BEGIN:VCALENDAR
VERSION:2.0
PRODID:-//wp-events-plugin.com//7.2.3.1//EN
BEGIN:VEVENT
UID:9@vetxray.com
DTSTART;VALUE=DATE:20241207
DTEND;VALUE=DATE:20241212
DTSTAMP:20240912T163219Z
URL:https://vetxray.com/events/2024-aaep-annual-convention/
SUMMARY:2024 AAEP Annual Convention
DESCRIPTION:DIS Booth #522\nfrom the event website:\n\nEmbark on a Quest in
  Orlando!\n\n\n\n\n\n\nLevel up your diagnostic and curative powers alongs
 ide your horse doctor colleagues when you join us in Orlando\, FL for the 
 AAEP’s 70th Annual Convention!\n\nThe 2024 event features 3 ½ days of e
 ducational sessions covering more than 20 topic areas in equine veterinary
  medicine and daily practice life. No meeting offers more educational opti
 ons than the AAEP Convention.\n\nRegister by Sept. 15 to receive the lowes
 t in-person rate.\n\n\n\n\n\n\nRegister To Attend\n\n\n\n
ATTACH;FMTTYPE=image/jpeg:https://vetxray.com/wp-content/uploads/2024/09/a
 aep.jpg
END:VEVENT
END:VCALENDAR