BEGIN:VCALENDAR
VERSION:2.0
PRODID:-//wp-events-plugin.com//7.2.3.1//EN
BEGIN:VEVENT
UID:6@vetxray.com
DTSTART;VALUE=DATE:20240905
DTEND;VALUE=DATE:20240909
DTSTAMP:20240719T162233Z
URL:https://vetxray.com/events/2024-colorado-vma-convention/
SUMMARY:2024 Colorado VMA Convention
DESCRIPTION:Diagnostic Imaging Systems will be at booth #110. See the lates
 t equipment and get amazing deals!\n\n\n\n\n\n\n\n\nWe can’t wait to see
  you in Westminster!\nChoose a registration package that fits your sched
 ule: Full\, daily\, and lab-only options are available.\n\n\n\n\nCHOOSE YO
 UR REGISTRATION PACKAGE\n\n\n\n\nCVMA members save on registration prices.
 \nNot a member? You can easily join within your conference registration p
 rocess in order to save.\n\n\n\n\n\n\n\n\n\n\n\n\n\n\n\n\n\nThe conventio
 n schedule and speaker details are taking shape!\n\n\n\nClick below to rev
 iew our current confirmed speaker and session details. More speakers and 
 sessions are being added each week. We’ll have over 100 hours of CE ava
 ilable across small animal\, equine\, zoo and exotic species\, agricultura
 l animals\, dermatology\, state-required CE\, technician utilization\, and
  practice efficiency topics.\n\n\n\n\nBROWSE THE CONVENTION PROGRAM\n\n\n\
 n\n\n\n\n\n\n\n\n\n\n\n\n\n\nPre-Convention Wet Labs\nThursday\, September
  5\nFor an additional fee per lab\, join your peers for hands-on wet labs 
 Thursday. There’s something for every skill level to explore.\n\n\n\n\n\
 n\n8:00am – 12:00pm\nChoose from either option below to build your perfe
 ct day.\n\n\n\n\n\n\n\n\n\n\n\n\n\n\n\n\n\n\n\n\n\n\n\nBasic Dental Extrac
 tion Techniques\n\n\n\n\n\nSpeakers: John F. Huff III\, DVM\, FAVD\, DAVDC
  and Larry J. Klima DVM\, DAVDC\n\n4 CE Credits\n\n\n\n\n\nNew to veterin
 ary dentistry\, or just need a refresher in technique? Dental extractions 
 are one of the most common surgical procedures performed in daily veterina
 ry practice. In this basic laboratory\, you will:\n\n 	Recognize the most 
 common indications for dental extractions\n 	Learn how to select instrumen
 tation for efficient extractions\n 	Learn the basic techniques of surgical
  dental extractions and flap design\n 	Practice these techniques on cadave
 r heads with direct supervision from two board-certified veterinary dentis
 ts\n\n\n\n\n\n\nSponsored by: Patterson Veterinary Supply\, Provide\, an
 d SurgiTel.\n\n\n\n\n\n\n\n\n\n\n\n\nSOLD OUT  Basic Small Animal Abdom
 inal Ultrasound\n\n\n\n\n\nSpeaker: Shanna Marroquin DVM\, MS\, DACVR\n\n4
  CE Credits\n\n\n\n\n\nArm yourself with the necessary skillset for basic 
 abdominal scanning techniques. In this session\, you will:\n\n 	Discuss th
 e basic physics of ultrasound and learn how to manipulate machine controls
  to improve image quality\n 	Learn the anatomy and normal ultrasonographic
  appearances of the main abdominal organs\n 	Practice your new skills in s
 mall groups under the mentorship of experienced instructors\n\nNo prior ul
 trasound experience is required to register.\n\n\n\n\n\n\nSponsored by: U
 niversal Imaging\n\n\n\n\n\n\n\n\n\n\n\n\n\n\n\n\n\n\n\n\n\n\n\n\n\n\n\n\n
 \n\n\n\n\n\n\n\n\n1:00pm – 5:00pm\nChoose to continue in the lane of lea
 rning you chose for the morning\, or switch it up.\n\n\n\n\n\n\n\n\n\n\n\n
 \n\n\n\n\n\n\n\n\n\n\n\nAdvanced Dental Extraction Techniques\n\n\n\n\n\n\
 nSpeakers: John F. Huff III\, DVM\, FAVD\, DAVDC and Larry J. Klima\n\n\n4
  CE Credits\n\n\n\n\n\nAlready confident with dental extractions but want 
 to take your skill set to the next level? This advanced lab will cover:\n\
 n 	Important anatomy critical in your understanding and execution of the m
 ore complicated dental extractions.\n 	Extractions of the more technically
  challenging teeth in dogs and cats\n 	Techniques in oronasal fistula repa
 ir\n 	Retrieval of retained tooth roots and root tips\n\nPrior dental extr
 action experience is required when registering for this course.\n\n\n\n\n\
 n\nSponsored by: Patterson Veterinary Supply\, Provide\, and SurgiTel.\
 n\n\n\n\n\n\n\n\n\n\n\nSOLD OUT Intermediate Small Animal Abdominal Ultra
 sound\n\n\n\n\n\nSpeaker: Shanna Marroquin DVM\, MS\, DACVR\n\n4 CE Credi
 ts\n\n\n\n\n\nAdvance your knowledge in companion animal ultrasounds. In t
 his session\, you will:\n\n 	Learn abnormal ultrasonographic appearances o
 f common pathology to the major abdominal\norgans\n 	Explore the anatomy a
 nd ultrasound technique of the gastrointestinal tract\, adrenal glands\, a
 nd\npancreas\n 	Practice your new skills in small groups under the mentors
 hip of experienced instructors\n\nMust have prior ultrasound experience (a
 bility to find major organs) OR attendance of Basic Abdominal Ultrasound 
 lab required to register.\n\n\n\n\n\n\n\n\n\n\n\n\n\n
ATTACH;FMTTYPE=image/jpeg:https://vetxray.com/wp-content/uploads/2024/07/C
 VMA-Logo-Dark-01.png
END:VEVENT
END:VCALENDAR