BEGIN:VCALENDAR
VERSION:2.0
PRODID:-//wp-events-plugin.com//7.2.3.1//EN
BEGIN:VEVENT
UID:5@vetxray.com
DTSTART;VALUE=DATE:20240823
DTEND;VALUE=DATE:20240826
DTSTAMP:20240719T161409Z
URL:https://vetxray.com/events/2024-fetch-kansas-city-veterinary-conferenc
 e/
SUMMARY:2024 Fetch Kansas City Veterinary Conference
DESCRIPTION:Diagnostic Imaging Systems will be at booth #1014 at the fetch 
 Kansas City Veterinary Conference.\n\nStop by to see the latest in x-ray e
 quipment and get great conference deals!\n\nfrom the event website:\nWelco
 me to Kansas City!\nJoin us in August for another engaging educational exp
 erience. Earn CE credits plus interact and network in person with peers\, 
 friends\, and faculty.\nRegister Now\nAt a Fetch dvm360® conference\, we
 ’re taking adult learning to the next level. This means giving you the u
 ltimate clinical\, management\, technician and wellness CE you need to con
 tinue to provide the best possible pet care.\n\nWe provide interactive ses
 sions that help you walk away retaining more information\, and we make sur
 e that we take care of you as a whole person\, with sessions that focus on
  your well-being\, your communication skills and what’s keeping you up a
 t night.\n\nCE that will nurture\, inspire\, connect and equip you to be t
 he best veterinary professional you can be.\n\nEducation by the Numbers.\n
 \n 	3-day conference filled with education and opportunities to network\n 
 	3 keynote presentations to jumpstart your day\n 	17+ CE Credit Hours per 
 individual attendee\; including keynote\, lunch-in-learns\, gameshow and p
 anel discussion\n 	180+ sessions covering 50+ tracks so there is something
  to offer everyone\n 	80+ faculty that will provide you with clear takeawa
 ys\, resource materials\, and strategies for practical application\n\n*Sub
 ject to change without notice
ATTACH;FMTTYPE=image/jpeg:https://vetxray.com/wp-content/uploads/2024/07/f
 etch.png
LOCATION:Kansas City Convention Center\, 64105\, 301 W 13th St #100\,\, Kan
 sas City\, MO\, United States
X-APPLE-STRUCTURED-LOCATION;VALUE=URI;X-ADDRESS=64105\, 301 W 13th St #100\
 ,\, Kansas City\, MO\, United States;X-APPLE-RADIUS=100;X-TITLE=Kansas Cit
 y Convention Center:geo:0,0
END:VEVENT
END:VCALENDAR