BEGIN:VCALENDAR
VERSION:2.0
PRODID:-//wp-events-plugin.com//7.2.3.1//EN
BEGIN:VEVENT
UID:2@vetxray.com
DTSTART;VALUE=DATE:20240627
DTEND;VALUE=DATE:20240630
DTSTAMP:20240308T171357Z
URL:https://vetxray.com/events/2024-montana-vma-summer-meeting-trade-show/
SUMMARY:2024 Montana VMA Summer Meeting & Trade Show
DESCRIPTION:more information coming soon
ATTACH;FMTTYPE=image/jpeg:https://vetxray.com/wp-content/uploads/2024/03/m
 ontana-vma.jpg
LOCATION:Great Falls Heritage Inn\, 1700 Fox Farm Rd\, Great Falls\, MT\, 5
 9404\, United States
X-APPLE-STRUCTURED-LOCATION;VALUE=URI;X-ADDRESS=1700 Fox Farm Rd\, Great Fa
 lls\, MT\, 59404\, United States;X-APPLE-RADIUS=100;X-TITLE=Great Falls He
 ritage Inn:geo:0,0
END:VEVENT
END:VCALENDAR