BEGIN:VCALENDAR
VERSION:2.0
PRODID:-//wp-events-plugin.com//7.2.3.1//EN
BEGIN:VEVENT
UID:4@vetxray.com
DTSTART;VALUE=DATE:20240804
DTEND;VALUE=DATE:20240807
DTSTAMP:20240719T160509Z
URL:https://vetxray.com/events/2024-north-dakota-vma-annual-meeting/
SUMMARY:2024 North Dakota VMA Annual Meeting
DESCRIPTION:Join Diagnostic Imaging Systems as we travel just North of us t
 o the North Dakota VMA Annual Meeting August 4-6 at the Holiday Inn in Far
 go\, ND. See the latest in Veterinary X-Ray Equipment!\n\nRegister here\n\
 nClick here for the event schedule\n\n&nbsp\;
ATTACH;FMTTYPE=image/jpeg:https://vetxray.com/wp-content/uploads/2024/07/n
 dvma.png
END:VEVENT
END:VCALENDAR