BEGIN:VCALENDAR
VERSION:2.0
PRODID:-//wp-events-plugin.com//7.2.3.1//EN
BEGIN:VEVENT
UID:3@vetxray.com
DTSTART;VALUE=DATE:20240814
DTEND;VALUE=DATE:20240818
DTSTAMP:20240719T160024Z
URL:https://vetxray.com/events/2024-south-dakota-vma-annual-meeting/
SUMMARY:2024 South Dakota VMA Annual Meeting
DESCRIPTION:Join Diagnostic Imaging Systems in our backyard for the South D
 akota VMA Annual Meeting at the Ramkota Hotel and Conference Center in Rap
 id City\n\nfrom the event website:\n\nRegister Today\nSDVMA Annual Meeting
  Schedule at a Glance and Pricing (Click here for full speaker schedule):\
 n\nWednesday\, August 14th \n\n2:00 pm – 5:00 pm           S
 DVMA Board Meeting\n\n2:00 pm – 5:00 pm           BQA Train t
 he Trainer Session\n\n5:00 pm – 6:00 pm           Registratio
 n Desk Opens\n\n6:00 pm – 7:30 pm           Welcome Social\n\
 nThursday\, August 15th\n\n7:00 am                           
  Registration Desk Opens\n\n7:00 am                         
    Continental Breakfast\n\n7:00 am                         
    Exhibit Hall Opens\n\n7:00 am – 8:00 am           Past P
 residents Breakfast\n\n8:00 am – 12:00 pm        Continuing Educ
 ation Program (Large Animal and Small Animal Tracks)\n\n12:00 pm – 1:00 
 pm        SDVMA Lunch\n\n1:00 pm – 5:00 pm           
 Continuing Education Program (Large Animal and Small Animal Tracks)\n\n4:0
 0 pm – 5:00 pm           SDVMA Foundation Board Meeting\n\n4:
 00 pm – 5:00 pm           Auction Market Veterinarians Meetin
 g\n\n5:00 pm – 6:00 pm           University of Minnesota Alum
 ni Reception\n\n5:00 pm – 6:00 pm           Social Hour\n\n6:
 00 pm – 7:30 om           SDVMA Awards Dinner\n\n7:30 pm   
                          SDVMA Scholarship Foundation Auction
 \n\nFriday\, August 16th\n\n7:00 am                          
   Registration Desk Opens\n\n7:00 am                         
    Continental Breakfast\n\n7:00 am – 8:00 am           Chr
 istian Veterinary Fellowship Breakfast\n\n8:00 am – 12:00 pm      
   Continuing Education Program (Large Animal and Small Animal Tracks)\n\
 n12:00 pm – 2:00 pm        SDVMA Lunch and Annual Business Meeti
 ng\n\n2:00 pm – 5:00 pm          Continuing Education Program (Larg
 e Animal and Small Animal Tracks)\n\n3:00 pm                    
         Exhibit Hall Closes\n\n6:00 pm – 7:30 pm          
  President’s Come and Go Reception\n\nSaturday\, August 17th\n\n7:00 am
                            Registration Desk Opens\n\n7:00 am
                            Continental Breakfast\n\n8:00 am 
 – 12:00 pm        Continuing Education Program\nPricing:\nVeteri
 narian  - Member\nFull Conference Registration - $300.00\nOnsite - $350.0
 0\nOne-Day Conference Registration - $200.00\nOnsite - $$225.00\nSDVMA Lif
 e Member \nFull Conference Registration - $150.00\nOnsite - $200.00\nOne-
 Day Conference Registration - $125.00\nOnsite - $150.00\nVeterinarian – 
 Non-Member\nFull Conference Registration - $500.00\nOnsite - $550.00\nOne-
 Day Conference Registration - $350.00\nOnsite - $400.00\nVet-Tech\nFull Co
 nference Registration - $150.00\nOnsite - $200.00\nOne-Day Conference Regi
 stration - $100.00\nOnsite - $150.00\nVeterinary Student (PPVM)/Vet Tech S
 tudent\nFull Conference Registration - $0.00\nOnsite - $50.00\nOne-Day Con
 ference Registration - $0.00\nOnsite - $25.00
ATTACH;FMTTYPE=image/jpeg:https://vetxray.com/wp-content/uploads/2024/03/s
 dvma.png
LOCATION:Best Western Plus Ramkota Hotel\, 3200 W Maple St\, Sioux Falls\, 
 SD\, 57107\, United States
X-APPLE-STRUCTURED-LOCATION;VALUE=URI;X-ADDRESS=3200 W Maple St\, Sioux Fal
 ls\, SD\, 57107\, United States;X-APPLE-RADIUS=100;X-TITLE=Best Western Pl
 us Ramkota Hotel:geo:0,0
END:VEVENT
END:VCALENDAR