BEGIN:VCALENDAR
VERSION:2.0
PRODID:-//wp-events-plugin.com//7.2.3.1//EN
BEGIN:VEVENT
UID:7@vetxray.com
DTSTART;VALUE=DATE:20240926
DTEND;VALUE=DATE:20240930
DTSTAMP:20240912T162530Z
URL:https://vetxray.com/events/2024-southwest-veterinary-symposium/
SUMMARY:2024 Southwest Veterinary Symposium
DESCRIPTION:DIS Booth #620\nfrom the event website:\n\n\n\nSouthwest Veteri
 nary Symposium is a partnership of the Arkansas\, Louisiana\, New Mexico\,
  Oklahoma and Texas VMAs\, as well as the Arkansas Veterinary Technician A
 ssociation\, Oklahoma Veterinary Technician Association\, New Mexico Regis
 tered Veterinary Technician Association and the Veterinary Team Associatio
 n of Texas. We provide continuing education for veterinary professionals i
 n the Southwest region and the nation. Symposium profits are returned to t
 he partner states.\n\nThe annual symposium is held each fall in the Southw
 est and includes continuing education\, exhibits\, interactive labs\, and 
 social activities. We serve DVMs\, RVTs\, hospital personnel\, veterinary
  and technician students\, and the suppliers who provide the products and 
 services that support veterinary medicine.\n\n\n\n\n\n\nMission Statement
 \n\nSouthwest Veterinary Symposium represents innovative partnerships that
  focus on creating an unparalleled education experience\, advancing the en
 tire veterinary profession\, and fostering a spirit of reciprocal investme
 nt among our partner VMAs\, attendees\, and exhibitors.\n\nVision Statemen
 t\n\nTo become\, by the way of a thriving partnership between member state
  VMAs\, exhibitors\, and speakers\, the premier regional veterinary educat
 ional conference\, providing a one-of-a-kind\, friendly\, welcoming experi
 ence to attendees and their families.\n\n\n\nFull Schedule
ATTACH;FMTTYPE=image/jpeg:https://vetxray.com/wp-content/uploads/2024/09/s
 wvs.jpg
LOCATION:Fort Worth Convention Center\, 1201 Houston St.\, Fort Worth\, TX\
 , 76102\, United States
X-APPLE-STRUCTURED-LOCATION;VALUE=URI;X-ADDRESS=1201 Houston St.\, Fort Wor
 th\, TX\, 76102\, United States;X-APPLE-RADIUS=100;X-TITLE=Fort Worth Conv
 ention Center:geo:0,0
END:VEVENT
END:VCALENDAR