BEGIN:VCALENDAR
VERSION:2.0
PRODID:-//wp-events-plugin.com//7.2.3.1//EN
BEGIN:VEVENT
UID:8@vetxray.com
DTSTART;VALUE=DATE:20241016
DTEND;VALUE=DATE:20241020
DTSTAMP:20240912T162821Z
URL:https://vetxray.com/events/2024-wild-west-vet-show/
SUMMARY:2024 Wild West Vet Show
DESCRIPTION:DIS Booth #326\nfrom the event website:\nRENO\, NV | OCTOBER 16
 -19\, 2024\nSee the Big Picture in Vet Care\n\n\nJoin us this year Octobe
 r 16-19 at the Peppermill Resort Hotel for Wild West Vet 2024!\nLooking 
 to take your veterinary career to the next level?\nCome and join us at Wi
 ld West Vet - the ultimate event for veterinary professionals. Our immers
 ive conference boasts an extensive lineup of educational sessions\, hands-
 on experiences\, and networking opportunities tailor-made for veterans and
  newcomers alike. Learn from expert speakers as they delve into topics ran
 ging from animal care and surgery to the latest technologies in the field.
  Seize the chance to find out about the newest products and services from 
 leading companies in the industry.\nWhether you're a veterinarian\, techni
 cian\, student\, or researcher\, you'll leave this conference feeling info
 rmed\, inspired\, and connected to a vibrant community of like-minded indi
 viduals.\n\n
ATTACH;FMTTYPE=image/jpeg:https://vetxray.com/wp-content/uploads/2024/09/w
 ild-west.jpg
LOCATION:Peppermill Resort Spa Casino\, 2707 S Virginia St\, Reno\, NV\, 89
 502\, United States
X-APPLE-STRUCTURED-LOCATION;VALUE=URI;X-ADDRESS=2707 S Virginia St\, Reno\,
  NV\, 89502\, United States;X-APPLE-RADIUS=100;X-TITLE=Peppermill Resort S
 pa Casino:geo:0,0
END:VEVENT
END:VCALENDAR