BEGIN:VCALENDAR
VERSION:2.0
PRODID:-//wp-events-plugin.com//7.2.3.1//EN
BEGIN:VEVENT
UID:1@vetxray.com
DTSTART;VALUE=DATE:20240609
DTEND;VALUE=DATE:20240612
DTSTAMP:20240308T171338Z
URL:https://vetxray.com/events/2024-wvma-summer-meeting/
SUMMARY:2024 WVMA Summer Meeting
DESCRIPTION:&nbsp\;\n\nFrom the event website:\n\nREGISTRATION\n\n 	The pro
 gram will be published and registration will open in late - March\n 	Regis
 tration is open to all veterinarians and veterinary technicians\, includin
 g non-members.\n 	The schedule will be similar to the 2023 meeting - view
  HERE\n\n\nCE PROGRAM\nWYVMA CE offered: Earn up to 14 hours\n\n 	Choose 
 from a wide variety of topics between small animal and large animal sessio
 n. \n\n\n 	Additional CE credits will be available through the Wyoming Li
 vestock Board's Trichomoniasis Certification (2 credits). There are no add
 itional fees or pre-registration required to attend these sessions. Partic
 ipation does not require WVMA meeting registration.\n 	The WYVMA is an app
 roved CE provider according to the Wyoming Board of Veterinary Medicine. O
 ut-of-state attendees may want to confirm the WVMA CE is accepted by their
  licensing board.\n\n\n\nHOTEL &amp\; CONFERENCE LOCATION\nHoliday Inn Cod
 y - At Buffalo Bill Village\n1701 Sheridan Ave\nCody\, WY 82414\n\nSpecial
  discounted room rates will be available and posted in March.
ATTACH;FMTTYPE=image/jpeg:https://vetxray.com/wp-content/uploads/2024/02/w
 vma.jpg
LOCATION:Holiday Inn Cody\, 1701 Sheridan Ave\, Cody\, WY\, 82414\, United 
 States
X-APPLE-STRUCTURED-LOCATION;VALUE=URI;X-ADDRESS=1701 Sheridan Ave\, Cody\, 
 WY\, 82414\, United States;X-APPLE-RADIUS=100;X-TITLE=Holiday Inn Cody:geo
 :0,0
END:VEVENT
END:VCALENDAR