BEGIN:VCALENDAR
VERSION:2.0
PRODID:-//wp-events-plugin.com//7.2.3.1//EN
BEGIN:VEVENT
UID:18@vetxray.com
DTSTART:20250822T150000Z
DTEND:20250825T000000Z
DTSTAMP:20250227T171305Z
URL:https://vetxray.com/events/2025-fetch-kansas-city/
SUMMARY:2025 Fetch Kansas City
DESCRIPTION:Join us August 22-24\, 2025 for the next Fetch dvm360 Conferenc
 e in Kansas City\, Missouri!\n\nDiagnostic Imaging Systems will be at boot
 h #720 with the latest veterinary x-ray technology.\n\nfrom the event webs
 ite:\n\nRegistration for Fetch Kansas City 2025 is now open!\nOur flagship
  event is back for another year of top-notch veterinary CE.\nFetch KC Home
  Page\nEducation by the Numbers\n\n3-day veterinary CE conference | 3 ke
 ynote presentations | 17+ CE Credit Hours | 200+ sessions| 100+ facu
 lty\n\nTake Advantage of Jazz City!\n\nExplore Kansas City’s vibrant cul
 ture and heritage. Enjoy world-class barbecue\, jazz\, the historic Power 
 and Light District\, the KC Wheel\, Country Club Plaza\, Science City at U
 nion Station\, and the Kansas City Zoo. Art lovers can visit the Nelson-At
 kins Museum of Art\, and sports fans can catch a Royals game at Kauffman S
 tadium. There’s something special for everyone!\n\n
ATTACH;FMTTYPE=image/jpeg:https://vetxray.com/wp-content/uploads/2021/05/F
 etch_dvm360.jpg
END:VEVENT
END:VCALENDAR