BEGIN:VCALENDAR
VERSION:2.0
PRODID:-//wp-events-plugin.com//7.2.3.1//EN
BEGIN:VEVENT
UID:12@vetxray.com
DTSTART:20250220T070000Z
DTEND:20250222T070000Z
DTSTAMP:20241216T195137Z
URL:https://vetxray.com/events/2025-midwest-veterinary-conference/
SUMMARY:2025 Midwest Veterinary Conference
DESCRIPTION:New to DIS this year\, we're exhibiting at the Midwest Veterina
 ry Conference\, hosted by the Ohio Veterinary Medical Association. We'll b
 e in booth #720 with amazing conference special pricing on the best digita
 l x-ray technology available.\n\nfrom the event website:\n\n#1\nEducation\
 n\nCutting-edge topics for the entire team.\nAs one of the largest veterin
 ary conferences in the U.S.\, the MVC is an ideal place to fulfill your CE
  requirements. Attendees of all backgrounds and job descriptions can take 
 advantage of 300+ hours of cutting-edge lectures\, workshops\, and hands-o
 n labs covering a wide range of topics.\n\n\nLearn More » Browse CE Sch
 edule » View Labs &amp\; Workshops »\n\n#2\nSpeakers\n\nVeterinary ex
 perts from around the globe.\nAt the MVC\, you will learn from the best! W
 e bring together dozens of nationally and internationally renowned speaker
 s\, who present the most current\, cutting-edge information on dozens of t
 opics from the veterinary world.\n\n\nMeet the Speakers »\n\n#3\nExhibit
 s\n\nThe latest and greatest in veterinary products and services.\nYear af
 ter year\, attendees state they learn just as much outside the lecture hal
 l as they do inside. With nearly 200 exhibitors offering product demos\, s
 amples\, services\, and more\, you're sure to find plenty of useful ideas 
 and technology for your clinic—so be sure to stop by during designated h
 all hours!\n\n\nView Exhibitors &amp\; Sponsors »\n\n#4\nNetwork\n\nMake
  connections outside the classroom.\nAt the MVC\, it's not just about wo
 rking hard—it's also about having fun! As part of the Conference\, atten
 dees are invited to a variety of social and networking events. And\, if yo
 u'd like to get out and explore Columbus\, there's so much to do that you 
 definitely won't be bored!\n\n\nView Events »\n\n#5\nValue\n\nBig event\
 , small price tag.\nThe MVC offers an exceptional amount of high-quality e
 ducation for registration fees far below other regional and national veter
 inary conferences. Go ahead and compare—you'll easily see how MVC stands
  out against the competition!\nCheck registration fees »\n\n
ATTACH;FMTTYPE=image/jpeg:https://vetxray.com/wp-content/uploads/2024/12/m
 idwest-graphic.jpg
END:VEVENT
END:VCALENDAR