BEGIN:VCALENDAR
VERSION:2.0
PRODID:-//wp-events-plugin.com//7.2.3.1//EN
BEGIN:VEVENT
UID:11@vetxray.com
DTSTART:20250129T070000Z
DTEND:20250201T070000Z
DTSTAMP:20241216T194628Z
URL:https://vetxray.com/events/2025-minnesota-vma-annual-conference/
SUMMARY:2025 Minnesota VMA Annual Conference
DESCRIPTION:Diagnostic Imaging Systems will be in booth 519 at the Minnesot
 a VMA Annual Conference! Join us for the latest digital x-ray technology\,
  at the best possible prices.\nfrom the event website:\nThe MVMA Annual Co
 nference is the premier Upper Midwest conference for veterinarians\, vete
 rinary students\, veterinary technicians\, veterinary assistants\, veteri
 nary technician students\, practice managers and other veterinary professi
 onals—and drew more than 1\,800 attendees in 2024.\n\n\n\n\n\n\n\nSpeake
 r\n\n\n\n\nHighlights\n\n\n\n\n100+ speakers\, 23 tracks\, over 4 days\n\n
 \n\n\n\n\n\n\n\n\n\n\n\n\n\n\n\n\n\n\n\n\n\n\n\n\n\n\n\n\n\nKeynote\n\n\n\
 n\n\nIan Leonard\n\n\n\n\nChief Meteorologist &amp\; Obstacle Overcomer\n\
 n\n\n\n\n\n\n\n\n\n\n\n\n\n\n\n\n\n\nOpening Keynote\n\n\n\n\n\nJosh Vaism
 an\n\n\n\n\nMAPPCP\n\n\n\n\n\n\n\n\n\n\n\n\n\n\n\n\n\n\n\n\n\n\nCoffee Cha
 t\n\n\n\n\n\nLaura M. Greene\n\n\n\n\nDVM\, DACVIM (SAIM)\n\n\n\n\n\n\n\n\
 n\n\n\n\n\n\n\n\n\n\n\nCoffee Chat\n\n\n\n\n\nNikko Grossapoulos\n(Dr. G)\
 n\n\n\n\nDVM\n\n\n\n\n\n\n\n\n\n\n\n\n\n\n\nSmall Animal\n\n\n\n\n\nKate M
 yrna\n\n\n\n\nDVM\, MS\, DACVO\n\n\n\n\n\n\n\n\n\n\n\n\n\n\n\n\n\n\n\nEqui
 ne\n\n\n\n\n\nRachel Allbaugh\n\n\n\n\nDVM\, MS\, DACVO\n\n\n\n\n\n\n\n\n\
 n\n\n\n\n\n\n\n\n\n\n\n\n\nSmall Animal\n\n\n\n\n\nChristine Culler\n\n\n\
 n\nDVM\, MS\, DACVECC\n\n\n\n\n\n\n\n\n\n\n\n\n\n\n\n\n\n\n\nBovine\n\n\n\
 n\n\nLuciano Caixeta\n\n\n\n\nDVM\, PhD\n\n\n\n\n\n\n\n\n\n\n\n\n\n\n\n\n\
 n\n\n\n\n\nBovine\n\n\n\n\n\nAlan Young\n\n\n\n\nPhD\n\n\n\n\n\n\n\n\n\n\n
 \n\n\n\n\n\n\n\n\nComparative Medicine\n\n\n\n\n\nSierra Palmer\n\n\n\n\nM
 PH\n\n\n\n\n\n\n\n\n\n\n\n\n\n\n\n\n\n\n\n\n\n\nSwine\n\n\n\n\n\nMatthew S
 turos\n\n\n\n\nDVM\, MS\, PhD\, DACVM\n\n\n\n\n\n\n\n\n\n\n\n\n\n\n\n\n\n\
 n\nSmall Animal\n\n\n\n\n\nAida Vientós-Plotts\n\n\n\n\nDVM\, PhD\n\n\n\n
 \n\n\n\n\nschedule:\n\n\n\n\n\n\n\nThursday\, January 30\n\n\n\n\n\n\n\nGr
 and Opening: 10:50A\n\n\n\n\n\n\n\n\n\n\nExhibiting Hours: 10:50A-5:00P\n\
 n\n\n\n\n\n\n\n\n\n\n\n\n\n\nFriday\, January 31\n\n\n\n\n\n\n\n\nExhibiti
 ng Hours: 8:00A-5:00P\n\n\n\n\n\n\n\n\n\n\n\n\nReception: TBD\n\n\n\n\n\n\
 n\n\n\n\n\n\n\n\nSaturday\, February 1\n\n\n\n\n\n\nExhibiting Hours: 8:00
 A-11:00A\n\n\n\n\n\n\n\n\n\n\n\nBooth Teardown: 11:00A\n\n\nHotel:\n\nThe 
 Hilton – Minneapolis is the MVMA Annual Meeting headquarter hotel.\n\nBo
 ok online now! Reservations can be made\, modified or canceled via this l
 ink.\n\nStandard Guest Room rate: $129+ applicable taxes and fees for sin
 gle or double\; $149+ applicable taxes and fees for a triple\; and $169+ a
 pplicable taxes and fees for a quad rate. (View directions).\n\nAll guestr
 oom rates include complimentary self-parking for one vehicle per guest roo
 m in the underground 11th St Parking Ramp. Guests must exit ramp by 6 pm o
 n departure date.\n\nAdditional Amenities Include:\n\n 	Complimentary wire
 less internet in guest sleeping rooms\, hotel’s public spaces\, and all 
 common/meeting spaces\n 	Complimentary access to fitness center and indoor
  pool\n\n\n\n\n\n\n\n
ATTACH;FMTTYPE=image/jpeg:https://vetxray.com/wp-content/uploads/2024/12/a
 nnual-conference-registration-open-banner.webp
END:VEVENT
END:VCALENDAR