BEGIN:VCALENDAR
VERSION:2.0
PRODID:-//wp-events-plugin.com//7.2.3.1//EN
BEGIN:VEVENT
UID:15@vetxray.com
DTSTART:20250626T150000Z
DTEND:20250629T000000Z
DTSTAMP:20250227T170256Z
URL:https://vetxray.com/events/2025-montana-vma-summer-meeting-trade-show/
SUMMARY:2025 Montana VMA Summer Meeting & Trade Show
DESCRIPTION:Anaconda Montana is the place to be June 26-28 for the 2025 Mon
 tana VMA Summer Meeting and Trade Show!\n\nDiagnostic Imaging Systems will
  be there and we hope you'll join us to see the latest in Veterinary X-Ray
  Technology.\n\nRegistration information will be released in April 2025.
ATTACH;FMTTYPE=image/jpeg:https://vetxray.com/wp-content/uploads/2024/03/m
 ontana-vma.jpg
END:VEVENT
END:VCALENDAR