BEGIN:VCALENDAR
VERSION:2.0
PRODID:-//wp-events-plugin.com//7.2.3.1//EN
BEGIN:VEVENT
UID:16@vetxray.com
DTSTART:20250807T150000Z
DTEND:20250810T000000Z
DTSTAMP:20250227T170555Z
URL:https://vetxray.com/events/2025-north-dakota-vma-annual-meeting/
SUMMARY:2025 North Dakota VMA Annual Meeting
DESCRIPTION:\n\nAugust 7 - 9\, 2025\n\n\n\nCommunity Center Medora ND\n\n\n
 \nDon’t miss the premier conference for North Dakota veterinarians\, pra
 ctice managers\, technicians\, and veterinary medicine students.\n\n\n\n\n
 Annual Conference Agenda: Check Back May 2025\n\n\n\n\n\n\n\n\nAttendee Re
 gistration: Opens May 2025\n\n\n\n\n\n
ATTACH;FMTTYPE=image/jpeg:https://vetxray.com/wp-content/uploads/2024/07/n
 dvma.png
END:VEVENT
END:VCALENDAR