BEGIN:VCALENDAR
VERSION:2.0
PRODID:-//wp-events-plugin.com//7.2.3.1//EN
BEGIN:VEVENT
UID:17@vetxray.com
DTSTART:20250810T150000Z
DTEND:20250814T000000Z
DTSTAMP:20250227T170751Z
URL:https://vetxray.com/events/2025-south-dakota-vma-annual-meeting/
SUMMARY:2025 South Dakota VMA Annual Meeting
DESCRIPTION:Annual Membership Meeting\nSunday\, August 10 - Wednesday\, Aug
 ust 13\, 2025\nSioux Falls.\nStay tuned for details.
ATTACH;FMTTYPE=image/jpeg:https://vetxray.com/wp-content/uploads/2024/03/s
 dvma.png
END:VEVENT
END:VCALENDAR