BEGIN:VCALENDAR
VERSION:2.0
PRODID:-//wp-events-plugin.com//7.2.3.1//EN
BEGIN:VEVENT
UID:10@vetxray.com
DTSTART:20250125T070000Z
DTEND:20250129T070000Z
DTSTAMP:20241216T193952Z
URL:https://vetxray.com/events/2025-vmx-veterinary-meeting-expo/
SUMMARY:2025 VMX Veterinary Meeting & Expo
DESCRIPTION:Don't miss the first Veterinary event of the year! Join DIS at 
 booth #2123 for the VMX Veterinary Meeting &amp\; Expo!\n&nbsp\;\n\nfrom t
 he event website:\nVMX 2025: Festival of the HeARTS\nIt takes so much more
  than years of schooling to do what veterinary professionals do – Every.
  Single. Day.\n\nAt VMX 2025\, January 25-29\, we’ll get to the heart of
  the matter and celebrate the emotion\, the art and the whole person behin
 d the science. You’ll learn\, be inspired and express yourself through a
 ll types of art forms at VMX and return to your clinic with a renewed sens
 e of passion and purpose.\n\nREGISTER NOW\n\n&nbsp\;\nExplore the Expo\nJa
 nuary 25-29\, 2025\nTake your practice to the next level with new products
 \, services and equipment featured in the VMX Expo Hall! With hundreds of 
 exhibitors ready to solve your problems with the most creative solutions\,
  you’ll move toward a smarter and more efficient practice.\n\nRegister N
 ow!\nProgram Highlights\nYour Education. Your Experience. Your Conference.
 \nWith over 950 hours of CE and hundreds of program tracks happening simul
 taneously throughout the 5-day event\, VMX covers content for all members 
 of your veterinary team. That means tons of learning options\, formats and
  topics for you to choose from.\n\n&nbsp\;\n\nVMX conference proceedings a
 re digital only and available for purchase when you register.\n\n VIEW TH
 E PROGRAM
ATTACH;FMTTYPE=image/jpeg:https://vetxray.com/wp-content/uploads/2024/12/v
 mx-2025jpg.webp
END:VEVENT
END:VCALENDAR