BEGIN:VCALENDAR
VERSION:2.0
PRODID:-//wp-events-plugin.com//7.2.3.1//EN
BEGIN:VEVENT
UID:13@vetxray.com
DTSTART:20250302T070000Z
DTEND:20250305T070000Z
DTSTAMP:20241216T195609Z
URL:https://vetxray.com/events/2025-wvc-annual-conference/
SUMMARY:2025 WVC Annual Conference
DESCRIPTION:DIS is once again heading to Las Vegas for the WVC Annual Confe
 rence and we hope to see you there! Look for booth 3738 for the best digit
 al x-ray equipment at the best possible prices\, from a company you can tr
 ust.\n\n&nbsp\;\n\nfrom the event website:\nWhat is WVC Annual Conference
 ?\nThe WVC Annual Conference is one of the largest and longest-running vet
 erinary conferences in the country\, hosted in the Entertainment Capital o
 f the World\, Las Vegas!\n\nWVC\, for short\, offers hundreds of education
 al opportunities\, including lectures\, hands-on CE labs\, and drop-in lea
 rning sessions. Plus\, network and discover new innovations in our 345\,00
 0 sq. ft. Exhibit Hall\, and enjoy Vegas-style entertainment throughout yo
 ur conference experience.\n\nJoin us for the 97th WVC Annual Conference\, 
 happening March 2-5\, 2025.\nNEW Education Side-Quests!\nRemember that ga
 me you played where you went off the main story to earn more XP? Well\, we
 're taking that concept and applying it to your WVC conference education p
 rogram!\n\nAttend a series of lectures on topics\, including practice mana
 gement or small animal dentistry\, and you may walk away with a sweet badg
 e to commemorate your achievement.\n\nEach side quest session will be reve
 aled soon\, so get ready!\nThis Clinic's On Fire An Interactive Game-Bas
 ed Practice Management Workshop\nThis Clinic's On Fire returns for WVC 202
 5! This interactive game-based workshop dives into the various personnel 
 challenges that arise in veterinary clinics. Discuss common situations and
  leave with ideas to address staffing in your practice.\n\n\n\n\n\n\n\n\n\
 n\n\n\nA NEW INTERACTIVE GAME IS LAUNCHING AT WVC 2025 STAY TUNED\n\n\n\n
 \n\n\n\n\n\n\n\n\n\n\n\n\n\n\n\n\n\n\n\n\nLap of Love Memorial Pieces Work
 shop\n\nPaws\, Prints\, &amp\; Precious Memories Workshop: Unleash Your Cr
 eativity!\n\nJoin us for a paw-sitively delightful workshop where we'll di
 ve into the art of creating heartwarming memorials for our beloved furry f
 riends and patients.\n\nSponsor: Lap of Love Veterinary Hospice &amp\; In-
 home Euthanasia\n#ONLYATWVC The Art of Veterinary Medicine 🖌️\nJoin 
 us for an innovative journey at the intersection of art and veterinary sci
 ence at WVC2025. These unique sessions blend creative painting sessions al
 ongside anatomy\, offering a fresh perspective on education.\n\n#ONLYATWVC
  Heartbeat Hunt\n\nThe Quest is On! In partnership with Boehringer Ingelh
 eim\, we invite you to search for a collectible glass heart!\n\nLocal arti
 st Greg LeFrancis brings his talent back to the 97th WVC Annual Conference
 \, and has created 97 collectible glass-blown hearts\, commemorating our 
 97th WVC Annual Conference.\n\nLearn More\n\n\n\n\n\n\n\n\n\n\n\n\n\n\n\nT
 HREE NEW Learning Hubs inside WVC Exhibit Hall\n\n\n\n\n\n\n\n\n\n\n\n\n\
 n\n\n\n\n\n\n\n\n\n\n\n\n\n\nTake a trip through WVC history and earn CE b
 y visiting one of three themed Learning Lounges returning to the 2025 WVC 
 Exhibit Hall.\n\n\n\n\n\n\n\n\n\n\n\n\n\n 	The Western Frontier Learning H
 ub\n 	The Pharmacy Learning Hub\n 	The Joint Learning Hub\n\nNEW for 2025
  INFO COMING SOON\n\n 	The Milestone Learning Hub\n 	IDEXX Advanced Diag
 nostics\n 	The Vista Learning Hub\n\nVet Vibes Trivia Night\n\nTest your 
 veterinary health knowledge at this lively event promising an evening of f
 un\, camaraderie\, and friendly competition. Seating is limited\, RSVP tod
 ay.\n\nDate: Sunday\, March 2\, 2025\nTime: 6:30 - 7:30 PM\nLocation: 
 Mandalay Bay G\, Level 2\n\nhe Bridge Club: Give is the Word\n\nKick-off W
 VC and step back in time with us to the fabulous 1950s for the 2025 Give B
 ack Benefit! Get ready to rock around the clock\, themed "Give is the Wo
 rd!" Join us for an unforgettable night of poodle skirts\, slicked-back 
 hair\, and fundraising!\n\nDate: Saturday\, March 1\, 2025\nTime: 4 pm 
 – 6 pm\nLocation: House of Blues\, Mandalay Bay\, Las Vegas\nTicket Co
 st: $20/per person\; includes entry to the event\, two drink tickets\, ap
 petizers\, raffle items and silent auction\nDress Code: 1950’s inspired
  attire\n\n\n\n&nbsp\;\n\n\n\n\n\n\n\n\n\n\n\n
ATTACH;FMTTYPE=image/jpeg:https://vetxray.com/wp-content/uploads/2024/12/A
 C97_Participants_1080x1080.webp
END:VEVENT
END:VCALENDAR