BEGIN:VCALENDAR
VERSION:2.0
PRODID:-//wp-events-plugin.com//7.2.3.1//EN
BEGIN:VEVENT
UID:14@vetxray.com
DTSTART:20250622T150000Z
DTEND:20250625T000000Z
DTSTAMP:20250227T165813Z
URL:https://vetxray.com/events/2025-wvma-summer-meeting/
SUMMARY:2025 WVMA Summer Meeting
DESCRIPTION:Join DIS in Dubois\, Wyoming for the WVMA Summer Meeting!\n\nfr
 om the event website\nPROGRAM\nWVMA CE offered: minimum of 14 hrs. (TBD)\n
 \n 	The 2025 WVMA Summer Meeting schedule and registration will be availab
 le in March 2025. It will be similar to the 2024 program - View the 2024 
 program HERE.\n\n\n 	Registration is open to all veterinarians and veteri
 nary technicians\, including non-members! Member pricing is for Wyoming V
 MA members only.\n\n\n 	The WVMA is an approved CE provider according to t
 he Wyoming Board of Veterinary Medicine. Out-of-state attendees may want t
 o confirm the WVMA CE is accepted by their licensing board.\n\n\n 	This pr
 ogram is only available in-person.\n\n\n\nHIGHLIGHTED SPEAKERS -\n\nProgra
 m will include both small and large animal topics\, similar to the 2024 pr
 ogram. View the 2024 brochure.\n\n\nHOTEL &amp\; CONFERENCE LOCATION\nCon
 ference location: \nNational Museum of Military Vehicles\n\n6419 US Highw
 ay 26\n\nDubois\, WY 82513\n\n\n\nDubois\, Wyoming is the home of The Nat
 ional Museum of Military Vehicles. Besides the museum\, Dubois is a small 
 town known for its scenic beauty and outdoor recreational opportunities\, 
 including hiking\, fishing\, hunting\, camping\, and skiing. It is located
  in the Wind River Valley and is a gateway to Shoshone National Forest\, G
 rand Teton National Park and Yellowstone National Park. The town features 
 the National Bighorn Sheep Interpretive Center\, Western-style architectur
 e\, historic downtown area\, and hosts various events throughout the year.
 \n\nLodging in Dubois is limited - please refer to this listing for opti
 ons.\n\nWe encourage you to make reservations at local lodges\, RV sites\,
  or VRBO/Airbnb homes now! View local inns here - https://www.tripadvisor
 .com/Hotels-g60453-Dubois_Wyoming-Hotels.html.
ATTACH;FMTTYPE=image/jpeg:https://vetxray.com/wp-content/uploads/2024/02/w
 vma.jpg
END:VEVENT
END:VCALENDAR